BEGIN:VCALENDAR
VERSION:2.0
PRODID:-//Tukios.com/
BEGIN:VEVENT
UID:431aca59-ec79-4234-b4d1-68a4bd6adf26@www.mortonwhetstonefh.com
DTSTAMP:20260421T084221Z
DTSTART:20260427T170000Z
DTEND:20260427T180000Z
SUMMARY:Visitation
DESCRIPTION:
URL:https://www.mortonwhetstonefh.com/obituaries/james-higgins
LOCATION:Morton & Whetstone Funeral Home 139 South Dixie Drive  Vandalia 
	OH 45377
GEO:39.8889891;-84.1991735
END:VEVENT
END:VCALENDAR