BEGIN:VCALENDAR
VERSION:2.0
PRODID:-//Tukios.com/
BEGIN:VEVENT
UID:a111eba0-122c-4e5c-848e-eb5ae43674fb@www.mortonwhetstonefh.com
DTSTAMP:20260424T200303Z
DTSTART:20260430T150000Z
DTEND:20260430T160000Z
SUMMARY:Celebration of Life
DESCRIPTION:
URL:https://www.mortonwhetstonefh.com/obituaries/edward-longley
LOCATION:St. Christopher Catholic Church 435 E National Rd  Vandalia OH 
	45377
GEO:39.8922645;-84.1911098
END:VEVENT
END:VCALENDAR